BEGIN:VCALENDAR
VERSION:2.0
PRODID:-//Bridgewater College - ECPv6.15.20//NONSGML v1.0//EN
CALSCALE:GREGORIAN
METHOD:PUBLISH
X-ORIGINAL-URL:https://wwwdev-cloud.bridgewater.edu
X-WR-CALDESC:Events for Bridgewater College
REFRESH-INTERVAL;VALUE=DURATION:PT1H
X-Robots-Tag:noindex
X-PUBLISHED-TTL:PT1H
BEGIN:VTIMEZONE
TZID:UTC
BEGIN:STANDARD
TZOFFSETFROM:+0000
TZOFFSETTO:+0000
TZNAME:UTC
DTSTART:20200101T000000
END:STANDARD
END:VTIMEZONE
BEGIN:VEVENT
DTSTART;TZID=UTC:20230224T080000
DTEND;TZID=UTC:20230305T170000
DTSTAMP:20260425T112842
CREATED:20221213T195906Z
LAST-MODIFIED:20221213T195908Z
UID:10001072-1677225600-1678035600@wwwdev-cloud.bridgewater.edu
SUMMARY:Spring Break
DESCRIPTION:Spring Break begins after a student’s last class on Friday\, Feb. 24. Classes resume on Monday\, March 6. \n\n\n\nThe College will be closed on Monday\, Feb. 27. Normal business hours resume on Tuesday\, Feb. 28. \n\n\n\n\n\n\n\n\n\n\nShare
URL:https://wwwdev-cloud.bridgewater.edu/event/spring-break-2/
CATEGORIES:Academic,All Events
ATTACH;FMTTYPE=image/jpeg:https://wwwdev-cloud.bridgewater.edu/wp-content/uploads/2022/12/Student-Life-61.jpg
END:VEVENT
BEGIN:VEVENT
DTSTART;TZID=UTC:20230105T080000
DTEND;TZID=UTC:20230105T170000
DTSTAMP:20260425T112842
CREATED:20221213T193145Z
LAST-MODIFIED:20221213T193231Z
UID:10001068-1672905600-1672938000@wwwdev-cloud.bridgewater.edu
SUMMARY:Spring 2023 Classes Begin
DESCRIPTION:Classes for the Spring 2023 semester will begin on Thursday\, Jan. 5\, 2023.  \n\n\n\nIn order to accommodate advising meetings and student registration confirmation at the start of the spring semester\, the College will follow a condensed class schedule on Jan. 5. \n\n\n\nThe class schedule will be as follows: \n\n\n\nRegular schedule timesCondensed Schedule – allows for 50-minute classes until 2:00 p.m. classes and 10-minute class transition time8:00 a.m. 10:00 a.m. 9:30 a.m.11:00 a.m.11:00 a.m.12:00 p.m.12:30 p.m.1:00 p.m.All afternoon classesNormal schedule (Students in labs should consult with their lab instructors for further clarification)\n\n\n\n\n\n\n\n\n\n\nShare
URL:https://wwwdev-cloud.bridgewater.edu/event/spring-2023-classes-begin/
CATEGORIES:Academic,All Events
ATTACH;FMTTYPE=image/jpeg:https://wwwdev-cloud.bridgewater.edu/wp-content/uploads/2021/11/Exteriors_Bridgewater-Cornerstone-Spring.jpg
END:VEVENT
BEGIN:VEVENT
DTSTART;TZID=UTC:20221202T080000
DTEND;TZID=UTC:20221202T170000
DTSTAMP:20260425T112842
CREATED:20220420T233705Z
LAST-MODIFIED:20220420T235204Z
UID:10001023-1669968000-1670000400@wwwdev-cloud.bridgewater.edu
SUMMARY:Last Day of Fall 2022 Classes
DESCRIPTION:Classes for the Fall 2022 semester will conclude on Friday\, Dec. 2. Exams will take place Monday\, Dec. 5\, through Friday\, Dec. 9. \n\n\n\n\n\n\n\n\n\n\nShare
URL:https://wwwdev-cloud.bridgewater.edu/event/last-day-of-fall-2022-classes/
CATEGORIES:Academic,All Events
ATTACH;FMTTYPE=image/jpeg:https://wwwdev-cloud.bridgewater.edu/wp-content/uploads/2021/12/Students_Campus_Oct_2021_002.jpg
END:VEVENT
BEGIN:VEVENT
DTSTART;TZID=UTC:20221122T080000
DTEND;TZID=UTC:20221127T170000
DTSTAMP:20260425T112842
CREATED:20220420T230222Z
LAST-MODIFIED:20220420T230224Z
UID:10001022-1669104000-1669568400@wwwdev-cloud.bridgewater.edu
SUMMARY:Thanksgiving Break
DESCRIPTION:Thanksgiving Break begins after a student’s last class on Tuesday\, Nov. 22. Classes resume on Monday\, Nov. 28. \n\n\n\nThe College will be closed beginning at noon on Wednesday\, Nov. 23 and remain closed through Friday. Nov. 25. Regular business hours resume on Monday\, Nov. 28. \n\n\n\n\n\n\n\n\n\n\nShare
URL:https://wwwdev-cloud.bridgewater.edu/event/thanksgiving-break-2/
CATEGORIES:Academic,All Events
ATTACH;FMTTYPE=image/png:https://wwwdev-cloud.bridgewater.edu/wp-content/uploads/2021/09/Autumn_Leaves_2020-013.png
END:VEVENT
BEGIN:VEVENT
DTSTART;TZID=UTC:20220930T080000
DTEND;TZID=UTC:20221004T170000
DTSTAMP:20260425T112842
CREATED:20220420T224438Z
LAST-MODIFIED:20220915T194936Z
UID:10001020-1664524800-1664902800@wwwdev-cloud.bridgewater.edu
SUMMARY:Fall Break
DESCRIPTION:Fall Break begins after a students’ last class on Friday\, Sept. 30. Classes resume on Wednesday\, Oct. 5. \n\n\n\nThe College will be closed on Monday\, Oct. 3. Regular business hours will resume on Tuesday\, Oct. 4. \n\n\n\n\n\n\n\n\n\n\nShare
URL:https://wwwdev-cloud.bridgewater.edu/event/fall-break-2/
CATEGORIES:Academic,All Events
ATTACH;FMTTYPE=image/jpeg:https://wwwdev-cloud.bridgewater.edu/wp-content/uploads/2021/10/campus-fall.jpg
END:VEVENT
BEGIN:VEVENT
DTSTART;TZID=UTC:20220823T080000
DTEND;TZID=UTC:20220823T170000
DTSTAMP:20260425T112842
CREATED:20220420T223105Z
LAST-MODIFIED:20220718T174832Z
UID:10001018-1661241600-1661274000@wwwdev-cloud.bridgewater.edu
SUMMARY:Fall 2022 Classes Begin
DESCRIPTION:Classes for the Fall 2022 semester will begin on Tuesday\, Aug. 23. \n\n\n\n\n\n\n\n\n\n\nShare
URL:https://wwwdev-cloud.bridgewater.edu/event/fall-2022-classes-begin/
CATEGORIES:Academic,All Events
ATTACH;FMTTYPE=image/jpeg:https://wwwdev-cloud.bridgewater.edu/wp-content/uploads/2020/11/1-M-WEB-photo.jpg
END:VEVENT
BEGIN:VEVENT
DTSTART;TZID=UTC:20220725T090000
DTEND;TZID=UTC:20220730T140000
DTSTAMP:20260425T112842
CREATED:20220609T230518Z
LAST-MODIFIED:20220629T230132Z
UID:10001026-1658739600-1659189600@wwwdev-cloud.bridgewater.edu
SUMMARY:Virginia Private College Week
DESCRIPTION:Share
URL:http://bridgewater.edu/vpcw#new_tab
CATEGORIES:Academic,Admissions,All Events
ATTACH;FMTTYPE=image/jpeg:https://wwwdev-cloud.bridgewater.edu/wp-content/uploads/2022/04/Prospective_Eagles_Tours_018_web.jpg
END:VEVENT
BEGIN:VEVENT
DTSTART;TZID=UTC:20220507T100000
DTEND;TZID=UTC:20220507T120000
DTSTAMP:20260425T112842
CREATED:20211202T010928Z
LAST-MODIFIED:20220103T172058Z
UID:10000091-1651917600-1651924800@wwwdev-cloud.bridgewater.edu
SUMMARY:Commencement
DESCRIPTION:Bridgewater College’s Commencement Exercises will be held Saturday\, May 7 at 10 a.m. under the tent on the Campus Mall. \n\n\n\n\n\n\n\n\n\n\nShare
URL:https://www.bridgewater.edu/parents-families/current-families/commencement-information/#new_tab
CATEGORIES:Academic,All Events
ATTACH;FMTTYPE=image/jpeg:https://wwwdev-cloud.bridgewater.edu/wp-content/uploads/2021/12/Commencement_2021_12pm_007.jpg
END:VEVENT
BEGIN:VEVENT
DTSTART;TZID=UTC:20220506T180000
DTEND;TZID=UTC:20220506T200000
DTSTAMP:20260425T112842
CREATED:20211202T200627Z
LAST-MODIFIED:20220411T214029Z
UID:10000092-1651860000-1651867200@wwwdev-cloud.bridgewater.edu
SUMMARY:Baccalaureate
DESCRIPTION:The Baccalaureate Service will begin at 6 p.m. on Friday\, May 6 in Nininger Hall. \n\n\n\n\n\n\n\n\n\n\nShare
URL:https://www.bridgewater.edu/parents-families/current-families/baccalaureate-information/#new_tab
CATEGORIES:Academic,All Events
ATTACH;FMTTYPE=image/jpeg:https://wwwdev-cloud.bridgewater.edu/wp-content/uploads/2021/12/696A5422.jpg
END:VEVENT
BEGIN:VEVENT
DTSTART;TZID=UTC:20220414T080000
DTEND;TZID=UTC:20220419T170000
DTSTAMP:20260425T112842
CREATED:20211116T202320Z
LAST-MODIFIED:20211116T202322Z
UID:10000160-1649923200-1650387600@wwwdev-cloud.bridgewater.edu
SUMMARY:Easter Break
DESCRIPTION:Easter break begins after students’ last class on Thursday\, April 14. Classes resume on Tuesday\, April 19. \n\n\n\nThe College will be closed in observance of Good Friday on Friday\, April 15. Normal business hours resume on Monday\, April 18. \n\n\n\n\n\n\n\n\n\n\nShare
URL:https://wwwdev-cloud.bridgewater.edu/event/easter-break/
CATEGORIES:Academic,All Events
ATTACH;FMTTYPE=image/jpeg:https://wwwdev-cloud.bridgewater.edu/wp-content/uploads/2021/11/spring_ben_24.jpg
END:VEVENT
BEGIN:VEVENT
DTSTART;TZID=UTC:20220411T153000
DTEND;TZID=UTC:20220413T193000
DTSTAMP:20260425T112842
CREATED:20220406T224844Z
LAST-MODIFIED:20220406T225000Z
UID:10001014-1649691000-1649878200@wwwdev-cloud.bridgewater.edu
SUMMARY:ASPIRE
DESCRIPTION:Share
URL:http://www.bridgewater.edu/ASPIRE#new_tab
CATEGORIES:Academic
ATTACH;FMTTYPE=image/jpeg:https://wwwdev-cloud.bridgewater.edu/wp-content/uploads/2022/04/ASPIRE-2022.jpg
END:VEVENT
BEGIN:VEVENT
DTSTART;TZID=UTC:20220405T080000
DTEND;TZID=UTC:20220405T170000
DTSTAMP:20260425T112842
CREATED:20211115T221019Z
LAST-MODIFIED:20211115T221022Z
UID:10000158-1649145600-1649178000@wwwdev-cloud.bridgewater.edu
SUMMARY:Founder's Day
DESCRIPTION:Bridgewater College will celebrate Founder’s Day on Tuesday\, April 5\, 2022. \n\n\n\n\n\n\n\n\n\n\nShare
URL:https://wwwdev-cloud.bridgewater.edu/event/founders-day/
CATEGORIES:Academic,All Events
ATTACH;FMTTYPE=image/jpeg:https://wwwdev-cloud.bridgewater.edu/wp-content/uploads/2019/07/mckinney_jan_019.jpg
END:VEVENT
BEGIN:VEVENT
DTSTART;TZID=UTC:20220225T080000
DTEND;TZID=UTC:20220306T080000
DTSTAMP:20260425T112842
CREATED:20211115T220429Z
LAST-MODIFIED:20220307T220238Z
UID:10000157-1645776000-1646553600@wwwdev-cloud.bridgewater.edu
SUMMARY:Spring Break
DESCRIPTION:Spring Break begins after a student’s last class on Friday\, Feb. 25. Classes resume on Monday\, March 7. \n\n\n\n\n\n\n\n\n\n\nShare
URL:https://wwwdev-cloud.bridgewater.edu/event/spring-break/
CATEGORIES:Academic,All Events
ATTACH;FMTTYPE=image/jpeg:https://wwwdev-cloud.bridgewater.edu/wp-content/uploads/2021/11/Exteriors_Bridgewater-Cornerstone-Spring.jpg
END:VEVENT
BEGIN:VEVENT
DTSTART;TZID=UTC:20220201T190000
DTEND;TZID=UTC:20220201T200000
DTSTAMP:20260425T112842
CREATED:20210913T204010Z
LAST-MODIFIED:20220105T200538Z
UID:10000979-1643742000-1643745600@wwwdev-cloud.bridgewater.edu
SUMMARY:Virtual Graduate Open House
DESCRIPTION:Join us for a virtual open house to find out more about Bridgewater College graduate programs. Speak directly with program directors and current students in Athletic Training\, Human Resource Management\, Digital Media Strategy\, and Psychology for Mental Health Professions. Gain insight on advancing  your education and furthering your career. \nRegister today \nShare
URL:https://wwwdev-cloud.bridgewater.edu/event/virtual-graduate-open-house-2022-02-01/
CATEGORIES:Academic
ATTACH;FMTTYPE=image/jpeg:https://wwwdev-cloud.bridgewater.edu/wp-content/uploads/2021/09/lh_photos_ben_0906.jpg
END:VEVENT
BEGIN:VEVENT
DTSTART;TZID=UTC:20220117T110000
DTEND;TZID=UTC:20220117T153000
DTSTAMP:20260425T112842
CREATED:20211116T202817Z
LAST-MODIFIED:20220117T170507Z
UID:10000090-1642417200-1642433400@wwwdev-cloud.bridgewater.edu
SUMMARY:Dr. Martin Luther King Jr. Day Celebration
DESCRIPTION:Update: The College’s Martin Luther King Jr. Day march is cancelled\, and the virtual teach-ins are postponed. \n\n\n\nBridgewater College has annually hosted the Martin Luther King Jr. community march in collaboration with the Town of Bridgewater. While this year\, due to weather\, our annual march is cancelled and the virtual teach-ins have been postponed\, we still honor Dr. King with an exhibit in the KCC Lobby. We encourage community members to visit the KCC Lobby\, as this exhibit will be on display until Friday\, Jan. 21. \n\n\n\nOur student speaker for this year’s MLK Day assembly is Jalissa White-Jones ’22. Please watch this video to hear what Dr. King means to her. \n\n\n\n\n\n\n\nMembers of the community are invited to celebrate the life and legacy of Martin Luther King Jr. with Bridgewater College during its annual Martin Luther King Day celebration\, “Celebrating the Dream\, Continuing the Journey.”  \n\n\n\nThe celebration will begin at 11 a.m. on Monday\, Jan. 17\, at Oakdale Park in Bridgewater. The event kicks off with guest speakers giving remarks at Oakdale followed by a march of event attendees from Oakdale Park to Bridgewater College’s campus. A shuttle will be available for those who would like to participate in the march but are unable to walk the entire route because of limited mobility.  \n\n\n\nAt the conclusion of the march\, guests are invited to enjoy a reception in the Kline Campus Center lobby. After the reception\, Bridgewater College faculty will lead three teach-ins on Zoom. \n\n\n\nThe teach-in sessions are as follows:  \n\n\n\n“From Civil Rights to Afrofuturism: Dr. King’s Influence on Science Fiction Media” with Dr. Grace Martin\, 12:30 p.m. This teach-in session will examine the connections between Dr. Martin Luther King Jr.’s work for Civil Rights and its legacy in Afrofuturist media. (livestream on Zoom)\n\n\n\n“All Labor Has Dignity” with Dr. Sam Hamilton\, 1:30 p.m. In addition to his commitment to ending racial segregation\, Dr. Martin Luther King Jr. was similarly committed to the cause of economic justice. Just as the moral lessons from his Civil Rights advocacy can and should inform our present-day struggles with racial justice\, so too should King’s lifelong support for workers’ rights inform our present-day struggles with economic justice. (livestream on Zoom)\n\n\n\n“Martin Luther King Jr. And Nelson Mandela: Leaders for Non-Racial Democracy” with Dr. Jamie Frueh\, 2:30 p.m. Frueh will lead a discussion comparing two of the most respected leaders of the 20th century. (livestream on Zoom)\n\n\n\nAll events are free and open to the public. In keeping with guidance from the CDC\, Bridgewater College requires that all individuals\, regardless of vaccination status\, properly wear face masks when indoors in public areas of campus. \n\n\n\nAT A GLANCE: Dr. Martin Luther King Jr. Celebration \n\n\n\n10:45 a.m. | Gather at Oakdale Park134 Mount Crawford Avenue\, Bridgewater \n\n\n\n11 a.m. | Remarks by Town and College RepresentativesMarch from Oakdale Park to Bridgewater College at the conclusion of remarks. \n\n\n\nFollowing the March | ReceptionKline Campus Center Lobby \n\n\n\n12:30 p.m. | Dr. Grace Martin\, “From Civil Rights to Afrofuturism: Dr. King’s Influence on Science Fiction Media”livestream on Zoom  \n\n\n\n1:30 p.m. | Dr. Sam Hamilton\, “All Labor Has Dignity” livestream on Zoom  \n\n\n\n2:30 p.m. | Dr. Jamie Frueh\, “Martin Luther King Jr. And Nelson Mandela: Leaders for Non-Racial Democracy” livestream on Zoom  \n\n\n\n\n\n\n\n\n\n\nShare
URL:https://wwwdev-cloud.bridgewater.edu/event/martin-luther-king-jr-day/
CATEGORIES:Academic,All Events
ATTACH;FMTTYPE=image/png:https://wwwdev-cloud.bridgewater.edu/wp-content/uploads/2021/11/MLK-Day_FacebookEventGraphic_1920x1080_2122.png
END:VEVENT
BEGIN:VEVENT
DTSTART;TZID=UTC:20220110T080000
DTEND;TZID=UTC:20220110T170000
DTSTAMP:20260425T112842
CREATED:20211115T215040Z
LAST-MODIFIED:20220103T171855Z
UID:10000156-1641801600-1641834000@wwwdev-cloud.bridgewater.edu
SUMMARY:Spring Classes Begin
DESCRIPTION:Spring 2022 classes begin on Monday\, Jan. 10. The last day to add a class is Jan. 18\, 2022. \n\n\n\n\n\n\n\n\n\n\nShare
URL:https://wwwdev-cloud.bridgewater.edu/event/spring-classes-begin/
CATEGORIES:Academic,All Events
ATTACH;FMTTYPE=image/jpeg:https://wwwdev-cloud.bridgewater.edu/wp-content/uploads/2021/11/campus_5.14.21_020.jpg
END:VEVENT
BEGIN:VEVENT
DTSTART;TZID=UTC:20211210T080000
DTEND;TZID=UTC:20211210T170000
DTSTAMP:20260425T112842
CREATED:20211116T021918Z
LAST-MODIFIED:20211116T021922Z
UID:10000159-1639123200-1639155600@wwwdev-cloud.bridgewater.edu
SUMMARY:Holiday Break
DESCRIPTION:Holiday break for students begins after students’ last exam. \n\n\n\nThe College will be closed Wednesday\, Dec. 22\, until Monday\, Jan. 3\, 2022. \n\n\n\nClasses resume on Wednesday\, Jan. 5\, 2022. \n\n\n\n\n\n\n\n\n\n\nShare
URL:https://wwwdev-cloud.bridgewater.edu/event/holiday-break/
CATEGORIES:Academic,All Events
ATTACH;FMTTYPE=image/jpeg:https://wwwdev-cloud.bridgewater.edu/wp-content/uploads/2021/11/snow_dec_083.jpg
END:VEVENT
BEGIN:VEVENT
DTSTART;VALUE=DATE:20211124
DTEND;VALUE=DATE:20211127
DTSTAMP:20260425T112842
CREATED:20210901T223848Z
LAST-MODIFIED:20211115T215117Z
UID:10000135-1637712000-1637971199@wwwdev-cloud.bridgewater.edu
SUMMARY:Thanksgiving Break
DESCRIPTION:Thanksgiving break begins after students’ last class on Tuesday\, Nov. 23.  \nThe College will be closed beginning at noon on Wednesday\, Nov. 24\, through Friday\, Nov. 26. \nClasses and normal business hours resume on Monday\, Nov. 29. \nShare
URL:https://wwwdev-cloud.bridgewater.edu/event/thanksgiving-break/
CATEGORIES:Academic,All Events
ATTACH;FMTTYPE=image/png:https://wwwdev-cloud.bridgewater.edu/wp-content/uploads/2021/09/Autumn_Leaves_2020-025.png
END:VEVENT
BEGIN:VEVENT
DTSTART;TZID=UTC:20211020T190000
DTEND;TZID=UTC:20211020T200000
DTSTAMP:20260425T112842
CREATED:20210913T204010Z
LAST-MODIFIED:20220105T200448Z
UID:10000147-1634756400-1634760000@wwwdev-cloud.bridgewater.edu
SUMMARY:Virtual Graduate Open House
DESCRIPTION:Join us for a virtual open house to find out more about Bridgewater College graduate programs. Speak directly with program directors and current students in Athletic Training\, Human Resource Management\, Digital Media Strategy\, and Psychology for Mental Health Professions. Gain insight on advancing  your education and furthering your career. \nRegister today \nShare
URL:https://wwwdev-cloud.bridgewater.edu/event/virtual-graduate-open-house/2021-10-20/
CATEGORIES:Academic
ATTACH;FMTTYPE=image/jpeg:https://wwwdev-cloud.bridgewater.edu/wp-content/uploads/2021/09/lh_photos_ben_0906.jpg
END:VEVENT
BEGIN:VEVENT
DTSTART;VALUE=DATE:20211002
DTEND;VALUE=DATE:20211006
DTSTAMP:20260425T112842
CREATED:20210901T215151Z
LAST-MODIFIED:20210903T190930Z
UID:10000133-1633132800-1633478399@wwwdev-cloud.bridgewater.edu
SUMMARY:Fall Break
DESCRIPTION:Begins after the last class on Friday\, October 1. \nShare
URL:https://wwwdev-cloud.bridgewater.edu/event/fall-break/
CATEGORIES:Academic
ATTACH;FMTTYPE=image/png:https://wwwdev-cloud.bridgewater.edu/wp-content/uploads/2021/09/Autumn_Leaves_2020-013.png
END:VEVENT
END:VCALENDAR